BEGIN:VCALENDAR
VERSION:2.0
PRODID:-//Inside + Out Upstate NY - ECPv6.15.18//NONSGML v1.0//EN
CALSCALE:GREGORIAN
METHOD:PUBLISH
X-WR-CALNAME:Inside + Out Upstate NY
X-ORIGINAL-URL:https://insideandoutupstateny.com
X-WR-CALDESC:Events for Inside + Out Upstate NY
REFRESH-INTERVAL;VALUE=DURATION:PT1H
X-Robots-Tag:noindex
X-PUBLISHED-TTL:PT1H
BEGIN:VTIMEZONE
TZID:America/New_York
BEGIN:DAYLIGHT
TZOFFSETFROM:-0500
TZOFFSETTO:-0400
TZNAME:EDT
DTSTART:20250309T070000
END:DAYLIGHT
BEGIN:STANDARD
TZOFFSETFROM:-0400
TZOFFSETTO:-0500
TZNAME:EST
DTSTART:20251102T060000
END:STANDARD
BEGIN:DAYLIGHT
TZOFFSETFROM:-0500
TZOFFSETTO:-0400
TZNAME:EDT
DTSTART:20260308T070000
END:DAYLIGHT
BEGIN:STANDARD
TZOFFSETFROM:-0400
TZOFFSETTO:-0500
TZNAME:EST
DTSTART:20261101T060000
END:STANDARD
BEGIN:DAYLIGHT
TZOFFSETFROM:-0500
TZOFFSETTO:-0400
TZNAME:EDT
DTSTART:20270314T070000
END:DAYLIGHT
BEGIN:STANDARD
TZOFFSETFROM:-0400
TZOFFSETTO:-0500
TZNAME:EST
DTSTART:20271107T060000
END:STANDARD
END:VTIMEZONE
BEGIN:VEVENT
DTSTART;TZID=America/New_York:20260417T170000
DTEND;TZID=America/New_York:20260417T200000
DTSTAMP:20260419T203029
CREATED:20260413T194347Z
LAST-MODIFIED:20260413T194347Z
UID:10002098-1776445200-1776456000@insideandoutupstateny.com
SUMMARY:Sap Sucker Beer Release & Jaketown Road LIVE
DESCRIPTION:Come celebrate the release of our flagship Sap Sucker Saison!! Made with the sap from our maple trees – no added sugar or water!!\n\n\n\n\nJaketown Road will be LIVE 5-8 playing Woodstock Era Rock and Rock Americana from the 60’s thru the 80’s including Southern Rock\,Blues Rock\, Soul\, Brit Rock\,Pop Rarities\, and The Allman Brothers & The Grateful Dead!\n\n\n\n\n\n\n\n\nOpen 3-9\, Happy Hour 3-5\nKitchen closes 1hr before closing time.\n\n\n\n\n\nDog-friendly. Family friendly.\n\n\n\n\nStay tuned on our latest offerings by following @rmv_cellars &@greatlifebrewingatrmv &  joining our mailing list here!
URL:https://insideandoutupstateny.com/event/sap-sucker-beer-release-jaketown-road-live/
LOCATION:RMV Cellars\, 103 Burroughs Drive\, West Park\, New York\, 12493\, United States
CATEGORIES:Fairs + Festivals,Food + Drink,Live Music + Concerts
ATTACH;FMTTYPE=image/jpeg:https://mc-insideout.nyc3.cdn.digitaloceanspaces.com/2026/04/JAKETOWN-ROAD-red-maple-vineyard-west-park-ny.jpg
END:VEVENT
BEGIN:VEVENT
DTSTART;TZID=America/New_York:20260417T183000
DTEND;TZID=America/New_York:20260417T203000
DTSTAMP:20260419T203029
CREATED:20260413T194802Z
LAST-MODIFIED:20260413T194909Z
UID:10002097-1776450600-1776457800@insideandoutupstateny.com
SUMMARY:Americana Dinner Show w/Andrea Maddox & The Hey Y'Alls
DESCRIPTION:Andrea Maddox And The Hey Y’alls are a six-piece Americana band from New York’s Hudson Valley. A native Tennessean\, Andrea draws inspiration from the legendary women of classic country\, delivering a sultry style of songwriting filled with love\, longing\, and heart. \nWith plenty of tunes made for two-stepping and waltzing\, The Hey Y’alls bring a lively dance-floor energy wherever they play. The band has been featured at The O+ Festival in Kingston\, Skinny Dennis in Brooklyn\, and venues throughout New York and the Hudson Valley. \nThis all-star lineup includes Victor Lissabet (lead guitar)\, Bella Kosmacher (fiddle)\, Lara Hope (bass)\, Jon Blackstone(pedal steel)\, Roger LaRochelle (drums)\, and Andrea Maddox (vocals & guitar). 🎶🍽️
URL:https://insideandoutupstateny.com/event/americana-dinner-show-w-andrea-maddox-the-hey-yalls/
LOCATION:Pearl Moon\, 50 Mill Hill Road\, Woodstock\, NY\, 12498\, United States
CATEGORIES:Food + Drink,Live Music + Concerts
ATTACH;FMTTYPE=image/jpeg:https://mc-insideout.nyc3.cdn.digitaloceanspaces.com/2026/04/andrea-maddox-and-the-heyyalls-at-pearl-moon-woodstock-ny.jpeg
END:VEVENT
BEGIN:VEVENT
DTSTART;TZID=America/New_York:20260417T190000
DTEND;TZID=America/New_York:20260417T210000
DTSTAMP:20260419T203029
CREATED:20260324T195139Z
LAST-MODIFIED:20260324T195139Z
UID:10001997-1776452400-1776459600@insideandoutupstateny.com
SUMMARY:Drop-In Sketch Group
DESCRIPTION:Drop-In Sketch Group at the Arts Society of Kingston (ASK) is a casual\, figure‑drawing meetup where artists of all levels can show up\, and draw from a live model in an uninstructed\, social setting when ASK stays open late and admission is free. The Sketch Group typically runs on select Fridays in the evening\, and participants bring their own sketchbooks and materials while ASK provides the space\, model\, and laid‑back vibe. For exact dates\, times\, and pricing\, check ASK’s events/calendar page or their Instagram\, since the schedule can shift month to month.
URL:https://insideandoutupstateny.com/event/drop-in-sketch-group/
LOCATION:Arts Society of Kingston (ASK)\, 97 Broadway\, Kingston\, NY\, 12401\, United States
CATEGORIES:Arts + Culture,Workshops & Classes
ATTACH;FMTTYPE=image/jpeg:https://mc-insideout.nyc3.cdn.digitaloceanspaces.com/2026/03/sketch-group-at-ASK-kingston-ny.jpeg
END:VEVENT
BEGIN:VEVENT
DTSTART;TZID=America/New_York:20260417T190000
DTEND;TZID=America/New_York:20260417T220000
DTSTAMP:20260419T203029
CREATED:20260411T195110Z
LAST-MODIFIED:20260416T211711Z
UID:10002127-1776452400-1776463200@insideandoutupstateny.com
SUMMARY:Bakersfield Mist
DESCRIPTION:April 16-26\, 2026\nThurs\, Fri\, & Sat @ 7:00\, Sun @ 2:00\n\nInspired by true events\, Bakersfield Mist is a hilarious and thought-provoking comedy-drama that pits small town smarts vs big city credentials in a battle over art and authenticity. When Maude\, brash and unapologetic\, buys a thrift-store painting she’s convinced is a lost masterpiece worth millions\, she calls in Lionel Percy\, a highbrow art expert from New York City\, to authenticate it. What follows is a fiery battle about truth\, worth\, and integrity. As tempers flare and worlds collide\, this witty\, gripping play celebrates the courage to stand your ground and fight for what you believe in\, no matter who—or what—tries to convince you otherwise.
URL:https://insideandoutupstateny.com/event/bakersfield-mist/
LOCATION:Bridge Street Theater\, 44 West Bridge Street\, Catskill\, NY\, 12414\, United States
CATEGORIES:Live Theater + Dance
ATTACH;FMTTYPE=image/png:https://mc-insideout.nyc3.cdn.digitaloceanspaces.com/2026/04/Bakersfield-Mist-Picture.png
END:VEVENT
BEGIN:VEVENT
DTSTART;TZID=America/New_York:20260417T190000
DTEND;TZID=America/New_York:20260417T220000
DTSTAMP:20260419T203029
CREATED:20260414T203226Z
LAST-MODIFIED:20260414T203226Z
UID:10002073-1776452400-1776463200@insideandoutupstateny.com
SUMMARY:New Work Preview: La Verdad Presents Unchainable Voices
DESCRIPTION:La Verdad presents Unchainable Voices\, a work that speaks to the profound history of Black women who have stood as both the foundation of civilization and its most tireless stewards. Their benevolent songs—bold\, unwavering\, unchainable—have galvanized societies forward\, even as they have often been silenced\, ignored\, or marginalized. Unchainable Voices is a multidisciplinary artistic work rooted in dance and movement that celebrates the power\, resilience\, and cultural impact of Black women’s voices throughout history.\n\n\n\n\n\n\n\n\n\n\n\n\n\nStudio 2\, Studio Complex\n30 minutes\, followed by Q&A and reception\n\n\n\n\n\n\n\n\nFree admission with RSVP
URL:https://insideandoutupstateny.com/event/new-work-preview-la-verdad-presents-unchainable-voices/
LOCATION:Kaatsbaan Cultural Park\, 120 Broadway\, Tivoli\, NY\, 12583\, United States
ATTACH;FMTTYPE=image/jpeg:https://mc-insideout.nyc3.cdn.digitaloceanspaces.com/2026/04/la-verdad-presents-unchainable-voices-kaatsbaan-cultural-park-tivoli-ny-1.jpg
END:VEVENT
BEGIN:VEVENT
DTSTART;TZID=America/New_York:20260417T193000
DTEND;TZID=America/New_York:20260417T220000
DTSTAMP:20260419T203029
CREATED:20260416T174222Z
LAST-MODIFIED:20260416T174409Z
UID:10002069-1776454200-1776463200@insideandoutupstateny.com
SUMMARY:The Antipodes
DESCRIPTION:The Bard Theater & Performance Program presents The Antipodes\, written by Pulitzer Prize–winner Annie Baker and directed by Jonathan Rosenberg. A darkly funny\, surreal drama about a group of creators trapped in an endless brainstorming session\, spinning stories in search of the “perfect” idea while questioning who gets to tell stories—and whether there are any truly new ones left.\n\nDates\n\nApril 17 at 7:30 pm\nApril 18 at 2:00 pm and 7:30pm\nApril 19 at 4:00 pm\n\n\nTicketing \n\n\n$20 | Standard (single ticket)\n$40 | Pay-It-Forward (your ticket at this level will subsidize our standard ticket prices)\nFree for Bard Students\n\nAll proceeds will directly support Bard Theater & Performance students.
URL:https://insideandoutupstateny.com/event/the-antipodes/
LOCATION:Fisher Center\, LUMA Theater\, 60 Manor Avenue\, Annandale-on-Hudson\, NY\, 12504\, United States
CATEGORIES:Live Theater + Dance
ATTACH;FMTTYPE=image/png:https://mc-insideout.nyc3.cdn.digitaloceanspaces.com/2026/04/Antipodes-Bard.png
END:VEVENT
BEGIN:VEVENT
DTSTART;TZID=America/New_York:20260417T200000
DTEND;TZID=America/New_York:20260417T220000
DTSTAMP:20260419T203029
CREATED:20260324T195458Z
LAST-MODIFIED:20260413T010917Z
UID:10002018-1776456000-1776463200@insideandoutupstateny.com
SUMMARY:Ukrainian Folk Ritual: Yagódy
DESCRIPTION:Yagódy is one of the most charismatic contemporary Ukrainian folk bands of the past decade. Founded in Lviv\, Ukraine\, in 2016 by Zoryana Dybovska\, Yagody (“berries”) is rooted in Ukrainian and Balkan musical traditions that perform on drums\, percussion\, guitar\, bass\, and accordion. \nWatch LIVE at KEXP: https://www.youtube.com/watch?v=68WmaQDt2nk \nYAGÓDY are on a mission to preserve their culture by both reviving and reinterpreting folk songs while donning traditional clothing and costumes like the ornately embroidered Vyshyvanka. Sometimes heartbreaking and often rebellious\, YAGÓDY’s music is a testament to the land\, and spirit of the people of Ukraine. They poetically describe their concerts as\, “the songs of wild tribes. This is the voice of your ancestors. This is live energy. It is a dance with voices. This is how our nature smells. This is how our blood sounds.” \nThe self-titled debut album\, YAGÓDY\, released in 2020 introduced the world to their unique sound\, featuring powerful renditions of Ukrainian\, Bulgarian\, and Serbian folk songs. In 2024\, the group won over audiences at the Eurovision Songwriting Contest with their original song “Tsunamia” placing fifth at the national selection finals.
URL:https://insideandoutupstateny.com/event/ukrainian-folk-ritual-yagody/
LOCATION:The Local\, 16 John Street\, Saugerties\, NY\, 12477
CATEGORIES:Live Music + Concerts
ATTACH;FMTTYPE=image/jpeg:https://mc-insideout.nyc3.cdn.digitaloceanspaces.com/2026/03/ukrainian-folk-ritual-yagody-the-local-saugerties-ny.jpeg
END:VEVENT
BEGIN:VEVENT
DTSTART;TZID=America/New_York:20260417T200000
DTEND;TZID=America/New_York:20260417T220000
DTSTAMP:20260419T203029
CREATED:20260414T202627Z
LAST-MODIFIED:20260414T202627Z
UID:10002062-1776456000-1776463200@insideandoutupstateny.com
SUMMARY:Soul Asylum Acoustic
DESCRIPTION:SOLD OUT \nGrammy award-winning and multi-platinum selling rock band SOUL ASYLUM started as Minneapolis’ punk younger brothers to the Replacements and Husker Dü. Their 1992 breakthrough album Grave Dancers Union featured the international hits “Runaway Train”\, “Black Gold” and “ Somebody to Shove”. “Runaway Train” won a Grammy\, and its groundbreaking music video brought nearly two dozen missing and exploited children and teens around the world home to their families. \nSOUL ASYLUM has released 13 original albums – including their most recent\, 2024’s Slowly But Shirley – with multiple live albums and assorted Greatest Hits collections. Their famous 1993 MTV Unplugged performance was released for the first time on vinyl as a coveted Record Store Day exclusive\, and November 2025 also saw the 30-year-anniversary reissue of their Let Your Dim Light Shine album. \nThis upcoming show offers a rare opportunity to see SOUL ASYLUM’s Dave Pirner and Ryan Smith perform an intimate\, one-of-a-kind acoustic set.
URL:https://insideandoutupstateny.com/event/soul-asylum-acoustic/
LOCATION:Levon Helm Studios\, 160 Plochmann Lane\, Woodstock\, NY\, 12498
CATEGORIES:Live Music + Concerts
ATTACH;FMTTYPE=image/jpeg:https://mc-insideout.nyc3.cdn.digitaloceanspaces.com/2026/04/soul-asylum-acoustic-levon-helms-studios-woodstock-ny.jpg
END:VEVENT
BEGIN:VEVENT
DTSTART;TZID=America/New_York:20260417T200000
DTEND;TZID=America/New_York:20260417T230000
DTSTAMP:20260419T203029
CREATED:20260413T201917Z
LAST-MODIFIED:20260413T201917Z
UID:10002092-1776456000-1776466800@insideandoutupstateny.com
SUMMARY:Emanuel Casablanca
DESCRIPTION:Join us for a special evening of music and community featuring Emanuel Casablanca\, a talented Brooklyn-based guitarist\, singer\, and songwriter. Known for his collaborations with music icons like Bill Laswell\, Daxx Nielsen (Cheap Trick)\, Bernard Fowler (Rolling Stones)\, and Doug Wimbish (Living Colour)\, Emanuel brings a unique blend of passion and creativity to the stage. \nHis debut album\, Blood On My Hands\, showcases his musical journey through 16 powerful tracks\, with contributions from legends like Eric Gales\, Paul Gilbert\, and Albert Castiglia. This intimate performance will be a celebration of Emanuel’s versatility as an artist\, weaving together his personal stories of growth\, reflection\, and exploration.
URL:https://insideandoutupstateny.com/event/emanuel-casablanca/
LOCATION:Park Theater Hudson\, 723 Warren Street\, Hudson\, NY\, 12534
CATEGORIES:Live Music + Concerts
ATTACH;FMTTYPE=image/jpeg:https://mc-insideout.nyc3.cdn.digitaloceanspaces.com/2026/04/emanuel-casablanca-park-theater-hudson-ny.jpg
END:VEVENT
END:VCALENDAR