BEGIN:VCALENDAR
VERSION:2.0
PRODID:-//Inside + Out Upstate NY - ECPv6.15.18//NONSGML v1.0//EN
CALSCALE:GREGORIAN
METHOD:PUBLISH
X-WR-CALNAME:Inside + Out Upstate NY
X-ORIGINAL-URL:https://insideandoutupstateny.com
X-WR-CALDESC:Events for Inside + Out Upstate NY
REFRESH-INTERVAL;VALUE=DURATION:PT1H
X-Robots-Tag:noindex
X-PUBLISHED-TTL:PT1H
BEGIN:VTIMEZONE
TZID:America/New_York
BEGIN:DAYLIGHT
TZOFFSETFROM:-0500
TZOFFSETTO:-0400
TZNAME:EDT
DTSTART:20250309T070000
END:DAYLIGHT
BEGIN:STANDARD
TZOFFSETFROM:-0400
TZOFFSETTO:-0500
TZNAME:EST
DTSTART:20251102T060000
END:STANDARD
BEGIN:DAYLIGHT
TZOFFSETFROM:-0500
TZOFFSETTO:-0400
TZNAME:EDT
DTSTART:20260308T070000
END:DAYLIGHT
BEGIN:STANDARD
TZOFFSETFROM:-0400
TZOFFSETTO:-0500
TZNAME:EST
DTSTART:20261101T060000
END:STANDARD
BEGIN:DAYLIGHT
TZOFFSETFROM:-0500
TZOFFSETTO:-0400
TZNAME:EDT
DTSTART:20270314T070000
END:DAYLIGHT
BEGIN:STANDARD
TZOFFSETFROM:-0400
TZOFFSETTO:-0500
TZNAME:EST
DTSTART:20271107T060000
END:STANDARD
END:VTIMEZONE
BEGIN:VEVENT
DTSTART;TZID=America/New_York:20260418T110000
DTEND;TZID=America/New_York:20260418T170000
DTSTAMP:20260423T172846
CREATED:20260410T180947Z
LAST-MODIFIED:20260410T180947Z
UID:10002119-1776510000-1776531600@insideandoutupstateny.com
SUMMARY:Cherry Blossom Festival 2026
DESCRIPTION:Saturday AND Sunday! \nCelebrate the arrival of spring with us at the Cherry Blossom Festival at DASSAI BLUE Sake Brewery. This is an open house and family friendly event with no tickets. There will be food vendors and local craft & art vendors! Don’t forget to mark your calendars!! \nCome and picnic under the cherry blossoms with family and friends\, discover handcrafted goods from local artisans\, seasonal flavors\, and our signature sake offerings — all in a festive\, open-air atmosphere. \n📍 DASSAI BLUE Sake Brewery Hyde Park\, NY \n🌧 Rain or shine! \n🎫 Free entry
URL:https://insideandoutupstateny.com/event/cherry-blossom-festival-2026-2/
LOCATION:Dassai Blue Sake Brewery\, 5 Andrews Road\, Hyde Park\, NY\, 12538\, United States
CATEGORIES:Fairs + Festivals,Food + Drink
ATTACH;FMTTYPE=image/jpeg:https://mc-insideout.nyc3.cdn.digitaloceanspaces.com/2026/04/dassai-blue-cherry-blossom-festival-hyde-park-ny.jpg
END:VEVENT
BEGIN:VEVENT
DTSTART;TZID=America/New_York:20260418T110000
DTEND;TZID=America/New_York:20260418T220000
DTSTAMP:20260423T172846
CREATED:20260324T200312Z
LAST-MODIFIED:20260324T200312Z
UID:10002023-1776510000-1776549600@insideandoutupstateny.com
SUMMARY:Earth Day At The Wineries
DESCRIPTION:Celebrate the season and the spirit of Earth Day with a weekend on the Shawangunk Wine Trail. Taste the fresh flavors of Hudson Valley wines as the vineyards and orchards bloom\, enjoy scenic views\, and soak in seasonal vibes. \nLimited Early Bird tickets at $20 each. Get yours today!
URL:https://insideandoutupstateny.com/event/earth-day-at-the-wineries-2/
LOCATION:Shawungunk Wine Trail
CATEGORIES:Fairs + Festivals,Food + Drink
ATTACH;FMTTYPE=image/jpeg:https://mc-insideout.nyc3.cdn.digitaloceanspaces.com/2026/03/Earth-Day-at-the-Wineries-shawangunk-wine-trail-kingston-ny.jpg
ORGANIZER;CN="Shawungunk Wine Trail":MAILTO:info@gunkswine.com
END:VEVENT
BEGIN:VEVENT
DTSTART;TZID=America/New_York:20260418T130000
DTEND;TZID=America/New_York:20260418T140000
DTSTAMP:20260423T172846
CREATED:20260410T173644Z
LAST-MODIFIED:20260416T160111Z
UID:10002109-1776517200-1776520800@insideandoutupstateny.com
SUMMARY:Earth Week - Birds of Prey
DESCRIPTION:Join us for a special presentation on wildlife rehabilitation\, featuring four of Ravensbeard’s “ambassador birds” – Ursula\, Cowboy\, Hudson\, and T‑Rex.  Discover each bird’s natural history and the unique story behind their arrival at Ravensbeard Wildlife Center. Gain a deeper understanding of their species’ roles in the ecosystem\, their individual journeys from rescue to education\, and why they now call Ravensbeard home. \nRavensbeard Wildlife Center\,  is a 501(c)3 non-profit wildlife rehabilitation center located in Saugerties\, NY. We are a team of volunteers\, licensed educators\, local veterinarians and community members. We provide free medical attention to injured and orphaned wildlife\, with a mission to return them back to the wild. We treat all species of birds and we place indigenous animals with the proper NYSDEC and Federally Permitted Rehab facility in New York. Many of our unreleasable birds have become ambassadors in our celebrated wildlife education programs. \nSponsored by Earth Week Woodstock. \nClick here for a complete list of events.
URL:https://insideandoutupstateny.com/event/earth-week-birds-of-prey/
LOCATION:Woodstock Library\, 5 Library Lane\, Woodstock\, NY\, 12498\, United States
CATEGORIES:Workshops & Classes
ATTACH;FMTTYPE=image/jpeg:https://mc-insideout.nyc3.cdn.digitaloceanspaces.com/2026/04/birds-of-prey-ravensbeard-workshop-earth-week-woodstock-ny.jpg
END:VEVENT
BEGIN:VEVENT
DTSTART;TZID=America/New_York:20260418T160000
DTEND;TZID=America/New_York:20260418T170000
DTSTAMP:20260423T172846
CREATED:20260410T170114Z
LAST-MODIFIED:20260412T165434Z
UID:10002110-1776528000-1776531600@insideandoutupstateny.com
SUMMARY:Arm-of-the-Sea presents DIRT: The Secret Life of Soil
DESCRIPTION:Where does food “come from” and from what is it made? \nFusing cutting-edge science and age-old puppetry\, DIRT takes audiences on an extravagant journey of discovery into the Great Underneath\, revealing the epic alchemy of plants\, the fungi’s dance of mutual delight\, and the microbes’ herculean labors. Featuring live music and myriad puppet figures ranging from 12 inches to 12 feet tall\, the show reminds earthly residents of all ages how profoundly essential is the ground beneath their feet. \nPresented by Arm-of-the-Sea Theater \n  \nSponsored by Earth Week Woodstock \nClick here for a complete list of events.
URL:https://insideandoutupstateny.com/event/dirt-the-secret-life-of-soil/
LOCATION:Utopia Studios\, 293 Tinker Street\, Woodstock\, NY\, 12498\, United States
CATEGORIES:Arts + Culture,Live Theater + Dance
ATTACH;FMTTYPE=image/jpeg:https://mc-insideout.nyc3.cdn.digitaloceanspaces.com/2026/04/arm-of-the-sea-theater-DIRT-earthweek-woodstock-ny.jpg
END:VEVENT
BEGIN:VEVENT
DTSTART;TZID=America/New_York:20260418T170000
DTEND;TZID=America/New_York:20260418T200000
DTSTAMP:20260423T172846
CREATED:20260413T193933Z
LAST-MODIFIED:20260413T193933Z
UID:10002099-1776531600-1776542400@insideandoutupstateny.com
SUMMARY:Chris Jackson at Red Maple Vineyard
DESCRIPTION:Singer/songwriter Chris Jackson has been playing piano since he was 6 years old and guitar since the age of 15. Songwriting and live performance became a regular part of his life\, as well.  Jackson formed and fronted the band\, Nice Guy Eddie\, in Florida and later took himself and the band (in name only) to Los Angeles\, where they were a popular staple on the live music scene for many years.  In 2013\, he relocated to New York where he plays both solo and with others regularly.\nOpen 1-9\nMusic 5-8\nKitchen closes 1 hr before closing time.\nStay tuned on our latest offerings by following @rmv_cellars & @greatlifebrewingatrmv .  Join our mailing list here!
URL:https://insideandoutupstateny.com/event/chris-jackson-at-red-maple-vineyard/
LOCATION:RMV Cellars\, 103 Burroughs Drive\, West Park\, New York\, 12493\, United States
CATEGORIES:Food + Drink,Live Music + Concerts
ATTACH;FMTTYPE=image/jpeg:https://mc-insideout.nyc3.cdn.digitaloceanspaces.com/2026/04/Chris-Jackson-red-maple-vineyard-west-park-ny.jpg
END:VEVENT
BEGIN:VEVENT
DTSTART;TZID=America/New_York:20260418T190000
DTEND;TZID=America/New_York:20260418T203000
DTSTAMP:20260423T172846
CREATED:20260401T181623Z
LAST-MODIFIED:20260401T184125Z
UID:10002050-1776538800-1776544200@insideandoutupstateny.com
SUMMARY:Stop Zena Development Fundraiser featuring Bread+Puppet
DESCRIPTION:Presented by Stop Zena Development\, Bread + Puppet is coming to the Woodstock Playhouse\, for an urgently needed new puppet show! \nJoin us for our Stop Zena Development Fundraiser. For more than two years\, the Stop Zena Development coalition has been advocating to save 600+ acres of forest in Woodstock and Ulster. The coalition\, convened by Woodstock Land Conservancy with concerned community members\, has worked to halt the proposal to build dozens of million-dollar houses in a beautiful forest. Legal fees are mounting\, so the event’s proceeds will go directly toward helping the coalition continue fighting to save the forest\, waterways\, wildlife\, flora and fauna from destruction. \nTicket Pricing\n$25 – reserved seat\n$50 – reserved seat with a thank-you gift of a SZD bumper sticker\n$75 – reserved seat with a thank-you gift of a SZD embroidered beanie\n$100 – reserved seat with both thank-you gifts\n$125 – reserved seat with both thank-you gifts plus a “pay-it-forward” sponsorship \nPLEASE NOTE:  Bread + Puppet describes its shows as “political and spectacular.” Current national and global events — like militarism\, capitalism\, ecology\, Gaza and Iran — may be featured in the performance.
URL:https://insideandoutupstateny.com/event/stop-zena-development-fundraiser-featuring-breadpuppet/
LOCATION:Woodstock Playhouse\, 103 Mill Hill Rd\, Woodstock\, NY\, 12498\, United States
CATEGORIES:Fundraising Events,Live Theater + Dance
ATTACH;FMTTYPE=image/jpeg:https://mc-insideout.nyc3.cdn.digitaloceanspaces.com/2026/04/bread-and-puppet.jpg
END:VEVENT
BEGIN:VEVENT
DTSTART;TZID=America/New_York:20260418T190000
DTEND;TZID=America/New_York:20260418T210000
DTSTAMP:20260423T172846
CREATED:20260416T173712Z
LAST-MODIFIED:20260416T173712Z
UID:10002070-1776538800-1776546000@insideandoutupstateny.com
SUMMARY:Tan Dun Conducts
DESCRIPTION:Grammy and Academy Award-winning composer and conductor Tan Dun makes his fourth appearance with TŌN. The program comprises Debussy’s dreamy Prelude to the Afternoon of a Faun and Ravel’s second suite of music from his pastoral ballet Daphnis and Chloé\, as well as two works by the conductor: the world premiere of his expressive 2014 piece Ten Thousand Galloping Horses and the Concerto for 12 Cellos and Orchestra\, which the composer has called “a soulful search of cultural harmonies.”\nTickets start at $15 \nFree for Bard students
URL:https://insideandoutupstateny.com/event/tan-dun-conducts/
LOCATION:Fisher Center\, Sosnoff Theater
CATEGORIES:Live Music + Concerts
ATTACH;FMTTYPE=image/jpeg:https://mc-insideout.nyc3.cdn.digitaloceanspaces.com/2026/04/TanDun-Bard.jpg
END:VEVENT
BEGIN:VEVENT
DTSTART;TZID=America/New_York:20260418T203000
DTEND;TZID=America/New_York:20260418T220000
DTSTAMP:20260423T172846
CREATED:20260416T175602Z
LAST-MODIFIED:20260416T181910Z
UID:10002140-1776544200-1776549600@insideandoutupstateny.com
SUMMARY:Lumberjvck
DESCRIPTION:LUMBERJVCK is one of the West Coast’s top DJs and brings his high-energy EDM to The Lemon Squeeze in New Paltz!\n\n\nCatch an opening set by NYC-based dubstep DJ RAYN\, plus the world premiere of Trippy Sitter\, a live drum EDM project by Aaron Johnston (Brazilian Girls)\, right as doors open. Mindchurch brings their amazing lighting\, we’re going all out… DON’T MISS THIS!\n\n\nWith over eleven years of industry success\, international tour circuits\, and a sonic arsenal of genre-defying anthems\, LUMBERJVCK has established himself as an EDM staple – and he’s not going anywhere. To date\, LUMBERJVCK has amassed over 20 million streams\, releasing on high-profile labels including Deadbeats\, Disciple\, Rottun Recordings\, Buygore\, Bassrush\, and Insomniac Records.
URL:https://insideandoutupstateny.com/event/lumberjvck/
LOCATION:The Lemon Squeeze Tavern\, 107 Main Street\, New Paltz\, NY\, 12561\, United States
CATEGORIES:Live Music + Concerts,Nightlife + Parties
ATTACH;FMTTYPE=image/jpeg:https://mc-insideout.nyc3.cdn.digitaloceanspaces.com/2026/04/lumberjvck-at-lemonsqueeze.jpg
END:VEVENT
END:VCALENDAR