BEGIN:VCALENDAR
VERSION:2.0
PRODID:-//Inside + Out Upstate NY - ECPv6.15.18//NONSGML v1.0//EN
CALSCALE:GREGORIAN
METHOD:PUBLISH
X-WR-CALNAME:Inside + Out Upstate NY
X-ORIGINAL-URL:https://insideandoutupstateny.com
X-WR-CALDESC:Events for Inside + Out Upstate NY
REFRESH-INTERVAL;VALUE=DURATION:PT1H
X-Robots-Tag:noindex
X-PUBLISHED-TTL:PT1H
BEGIN:VTIMEZONE
TZID:America/New_York
BEGIN:DAYLIGHT
TZOFFSETFROM:-0500
TZOFFSETTO:-0400
TZNAME:EDT
DTSTART:20250309T070000
END:DAYLIGHT
BEGIN:STANDARD
TZOFFSETFROM:-0400
TZOFFSETTO:-0500
TZNAME:EST
DTSTART:20251102T060000
END:STANDARD
BEGIN:DAYLIGHT
TZOFFSETFROM:-0500
TZOFFSETTO:-0400
TZNAME:EDT
DTSTART:20260308T070000
END:DAYLIGHT
BEGIN:STANDARD
TZOFFSETFROM:-0400
TZOFFSETTO:-0500
TZNAME:EST
DTSTART:20261101T060000
END:STANDARD
BEGIN:DAYLIGHT
TZOFFSETFROM:-0500
TZOFFSETTO:-0400
TZNAME:EDT
DTSTART:20270314T070000
END:DAYLIGHT
BEGIN:STANDARD
TZOFFSETFROM:-0400
TZOFFSETTO:-0500
TZNAME:EST
DTSTART:20271107T060000
END:STANDARD
END:VTIMEZONE
BEGIN:VEVENT
DTSTART;TZID=America/New_York:20260419T110000
DTEND;TZID=America/New_York:20260419T220000
DTSTAMP:20260420T033722
CREATED:20260324T200119Z
LAST-MODIFIED:20260324T200215Z
UID:10002024-1776596400-1776636000@insideandoutupstateny.com
SUMMARY:Earth Day At The Wineries
DESCRIPTION:Celebrate the season and the spirit of Earth Day with a weekend on the Shawangunk Wine Trail. Taste the fresh flavors of Hudson Valley wines as the vineyards and orchards bloom\, enjoy scenic views\, and soak in seasonal vibes. \nLimited Early Bird tickets at $20 each. Get yours today!
URL:https://insideandoutupstateny.com/event/earth-day-at-the-wineries/
LOCATION:Shawungunk Wine Trail
CATEGORIES:Fairs + Festivals,Food + Drink
ATTACH;FMTTYPE=image/jpeg:https://mc-insideout.nyc3.cdn.digitaloceanspaces.com/2026/03/Earth-Day-at-the-Wineries-shawangunk-wine-trail-kingston-ny.jpg
ORGANIZER;CN="Shawungunk Wine Trail":MAILTO:info@gunkswine.com
END:VEVENT
BEGIN:VEVENT
DTSTART;TZID=America/New_York:20260419T130000
DTEND;TZID=America/New_York:20260419T140000
DTSTAMP:20260420T033722
CREATED:20260410T171445Z
LAST-MODIFIED:20260412T165737Z
UID:10002111-1776603600-1776607200@insideandoutupstateny.com
SUMMARY:Project Regeneration: Sustainable Building & Landscaping
DESCRIPTION:Meet members of the team behind Woodstock’s Project Regeneration\, a community-informed\, fully sustainable effort to transform outdated buildings on the west end of Tinker Street into efficient\, reasonably priced homes\, work spaces\, and expanded green space open to the public.  Project Regeneration aims to repurpose six older buildings on Tinker Street and expand the property’s green space\, adding native plantings and small permaculture orchards. \nAttendees can expect a 30-minute Q&A with the team creating the plans for repurposing the former Library and open discussion about efficient building and landscape design concepts. There will also be a 30-minute walking tour of the buildings and grounds. \n  \nSponsored by Earth Week Woodstock \nClick here for a complete list of events.
URL:https://insideandoutupstateny.com/event/project-regeneration-sustainable-building-landscaping/
LOCATION:Woodstock Library\, 5 Library Lane\, Woodstock\, NY\, 12498\, United States
CATEGORIES:Workshops & Classes
ATTACH;FMTTYPE=image/jpeg:https://mc-insideout.nyc3.cdn.digitaloceanspaces.com/2026/04/project-regeneration-earth-week-woodstock-ny.jpg
END:VEVENT
BEGIN:VEVENT
DTSTART;TZID=America/New_York:20260419T140000
DTEND;TZID=America/New_York:20260419T220000
DTSTAMP:20260420T033722
CREATED:20260324T171157Z
LAST-MODIFIED:20260324T171627Z
UID:10002017-1776607200-1776636000@insideandoutupstateny.com
SUMMARY:Culinary Workshop: Colorful Pasta with Danny Freeman
DESCRIPTION:Join us at Blue Cashew Kitchen for a hands-on\, beginner-friendly pasta class with pasta maker and cookbook author\, Danny Freeman. This class focuses on the fundamentals of making fresh pasta from scratch and goes next-level\, teaching you how to make your own colorful and creative fresh pasta\, unlike anything that can be found at the store. \nWe’ll start by mixing and kneading fresh pasta dough using just eggs and flour. Then\, choosing from a selection of natural ingredients—like turmeric\, paprika\, purple sweet potato powder\, butterfly pea flower\, spirulina\, and beetroot powder—you can experiment with creating your own colorful pasta. \nOnce the dough is ready\, we’ll roll it out using a pasta machine and learn how to shape a variety of classic and playful forms\, including: \n\nFarfalle – the familiar “bowtie” shape\, pinched at the center\, perfect for catching light sauces\nBarchette – delicate “little boats” that cradle sauce in their curved shape\nCappellacci dei Briganti – a more intricate\, folded pasta with dramatic edges\, offering a hands-on introduction to filled pastas\nFettuccine – long\, ribbon-like strands that teach proper cutting and handling from fresh pasta sheets\n\nAfter shaping\, we’ll cook the pasta together and enjoy what we’ve made! \nEach ticket includes a copy of Danny’s book\, Danny Loves Pasta\, so you can continue making delicious pasta art at home. \nDanny’s feed is super fun to follow\, so check him out @DannyLovesPasta!
URL:https://insideandoutupstateny.com/event/culinary-workshop-colorful-pasta-with-danny-freeman/
LOCATION:bluecashew kitchen homestead\, 37 N Front St\, Kingston\, NY\, 12401\, United States
CATEGORIES:Food + Drink,Workshops & Classes
ATTACH;FMTTYPE=image/jpeg:https://mc-insideout.nyc3.cdn.digitaloceanspaces.com/2026/03/danny-loves-pasta-colorful-pasta-class-blue-cashew-kingston-ny.jpg
ORGANIZER;CN="bluecashew kitchen homestead":MAILTO:kitchen@bluecashew.com
END:VEVENT
BEGIN:VEVENT
DTSTART;TZID=America/New_York:20260419T153000
DTEND;TZID=America/New_York:20260419T170000
DTSTAMP:20260420T033722
CREATED:20260410T172227Z
LAST-MODIFIED:20260412T163641Z
UID:10002112-1776612600-1776618000@insideandoutupstateny.com
SUMMARY:Save The Birds - DIY Window Magic
DESCRIPTION:Did you know windows can be dangerous for birds? Come discover simple\, creative DIY ways to help prevent bird collisions and keep our feathered friends safe—especially during migration seasons! This hands-on\, all-ages\, creative activity invites you to learn\, make\, and take home easy solutions to protect the birds around you. Suitable for 5 to 105 year olds!  \nOffered by Muriel Stallworth. Visit Living Land Learn for more info.  \n\nSponsored by Earth Week Woodstock. \nClick here for a complete list of events.
URL:https://insideandoutupstateny.com/event/save-the-birds-diy-window-magic/
LOCATION:Mescal Hornbeck Community Center\, 56 Rock City Road\, Woodstock\, NY\, 12498\, United States
CATEGORIES:Family + Kids,Fundraising Events,Workshops & Classes
ATTACH;FMTTYPE=image/jpeg:https://mc-insideout.nyc3.cdn.digitaloceanspaces.com/2026/04/save-the-birds-DIY-Window-Magic-Earth-Week-Woodstock-NY.jpg
END:VEVENT
BEGIN:VEVENT
DTSTART;TZID=America/New_York:20260419T170000
DTEND;TZID=America/New_York:20260419T200000
DTSTAMP:20260420T033722
CREATED:20260324T201101Z
LAST-MODIFIED:20260324T201119Z
UID:10002021-1776618000-1776628800@insideandoutupstateny.com
SUMMARY:Jazz Double-Bill: Joel Harrison Guitar Choir + The Ted Nash Trio
DESCRIPTION:Joel Harrison\, Steve Cardenas\, Gregg Belisle-Chi\, Max Light / Ben Allison\, Steve Cardenas\, Ted Nash Trio \nIn the words of Joel Harrison\, “the guitar can do anything—howl\, whisper\, swing\, groove. It can explore extra terrestrial textures\, play gorgeous harmony and quiet counterpoint\, or cause acid lunatics to dance naked in a field.” And thus his new project\, The Guitar Choir\, where four expert players from different backgrounds merge to explore the guitar’s infinite universe of sound. \nThe orchestral concept is not so much about soloists and accompaniment\, rather a group mind where the collective is prized and beauty emerges from surprise and empathy. The idea has grown from Harrison’s work at the yearly Alternative Guitar Summit Camp where master players often group together by chance with spectacular results. The repertoire includes Harrison’s compositions as well as tunes from anywhere. \nSteve Cardenas is best known for his work with Charlie Haden\, Steve Swallow\, and Paul Motian. Max Light is considered one of the leading younger improvisers with influences from modern bop to Allan Holdsworth. He placed 2nd in the 2019 Herbie Hancock Guitar Competition. Gregg Belisle-Chi gained notoriety for releasing an astonishing solo record of avant saxophonist Tim Berne’s improvisations. He leads his own quartet exploring the outer reaches of jazz and rock and much else. Guitarist\, composer\, arranger\, lyricist\, writer\, educator\, and vocalist Joel Harrison has “created a new blueprint for jazz” (New Orleans Times-Picayune). Succinctly described by the New York Times as “protean… brilliant\,” he is the founder and director of the Alternative Guitar Summit\, a yearly festival and camp devoted to new and unusual guitar music. \nThe Ted Nash Trio is a jazz trio led by Grammy‑winning saxophonist and composer Ted Nash\, best known for his work with Jazz at Lincoln Center. The core lineup features Ted Nash on saxophones and clarinet\, guitarist Steve Cardenas\, and bassist Ben Allison; together they play intimate\, drummer‑less trio music that emphasizes close interaction\, space\, and melody\, often drawing inspiration from the classic Jimmy Giuffre trios and from projects like their Somewhere Else: West Side Story Songs album.
URL:https://insideandoutupstateny.com/event/jazz-double-bill-joel-harrison-guitar-choir-the-ted-nash-trio/
LOCATION:The Local\, 16 John Street\, Saugerties\, NY\, 12477
CATEGORIES:Live Music + Concerts
ATTACH;FMTTYPE=image/jpeg:https://mc-insideout.nyc3.cdn.digitaloceanspaces.com/2026/03/Joel-Harrison-Guitar-ChoirThe-Ted-Nash-Trio-the-local-saugerties-ny.jpg
END:VEVENT
BEGIN:VEVENT
DTSTART;TZID=America/New_York:20260419T190000
DTEND;TZID=America/New_York:20260419T210000
DTSTAMP:20260420T033722
CREATED:20260308T202519Z
LAST-MODIFIED:20260319T172800Z
UID:10000089-1776625200-1776632400@insideandoutupstateny.com
SUMMARY:Garrison Keillor
DESCRIPTION:Loyal fans and those new to his audience will be entertained by Garrison Keillor’s quintessential humor\, music\, poetry\, and anecdotes\, delivered in his classic baritone voice.  The thread that runs throughout the evening is the beauty of growing old. Garrison has found graceful acceptance and genuine joy in life’s sunset\, bringing celebration to the inevitable journey. \n“Life is unjust and this is what makes it so beautiful. Every day is a gift. Be brave and take hold of it.” \nWith cheerfulness and wit\, the natural storyteller reflects on decades of life and art. The familiar\, decent characters of Lake Wobegon are woven into the evening\, along with a limerick or two and communal singalongs to lift the spirits. \n“We are the last generation who knows all the words\,” says Keillor. “When we’re gone\, they’ll disappear.” \nJoined by his longtime musical director\, Richard Dworsky\, this promises to be a warm\, thoughtful\, and thoroughly enjoyable evening.
URL:https://insideandoutupstateny.com/event/garrison-keillor/
LOCATION:Bethel Woods Center for the Arts\, 200 Hurd Rd\, Bethel\, NY\, 12720\, United States
CATEGORIES:Comedy,Live Theater + Dance
ATTACH;FMTTYPE=image/jpeg:https://mc-insideout.nyc3.cdn.digitaloceanspaces.com/2026/03/garrison-keillor-bethel-woods-bethel-ny-inside-out-upstate-ny.jpg
ORGANIZER;CN="Bethel Woods Center for the Arts":MAILTO:Info@BethelWoodsCenter.org
END:VEVENT
END:VCALENDAR