BEGIN:VCALENDAR
VERSION:2.0
PRODID:-//Inside + Out Upstate NY - ECPv6.15.18//NONSGML v1.0//EN
CALSCALE:GREGORIAN
METHOD:PUBLISH
X-WR-CALNAME:Inside + Out Upstate NY
X-ORIGINAL-URL:https://insideandoutupstateny.com
X-WR-CALDESC:Events for Inside + Out Upstate NY
REFRESH-INTERVAL;VALUE=DURATION:PT1H
X-Robots-Tag:noindex
X-PUBLISHED-TTL:PT1H
BEGIN:VTIMEZONE
TZID:America/New_York
BEGIN:DAYLIGHT
TZOFFSETFROM:-0500
TZOFFSETTO:-0400
TZNAME:EDT
DTSTART:20250309T070000
END:DAYLIGHT
BEGIN:STANDARD
TZOFFSETFROM:-0400
TZOFFSETTO:-0500
TZNAME:EST
DTSTART:20251102T060000
END:STANDARD
BEGIN:DAYLIGHT
TZOFFSETFROM:-0500
TZOFFSETTO:-0400
TZNAME:EDT
DTSTART:20260308T070000
END:DAYLIGHT
BEGIN:STANDARD
TZOFFSETFROM:-0400
TZOFFSETTO:-0500
TZNAME:EST
DTSTART:20261101T060000
END:STANDARD
BEGIN:DAYLIGHT
TZOFFSETFROM:-0500
TZOFFSETTO:-0400
TZNAME:EDT
DTSTART:20270314T070000
END:DAYLIGHT
BEGIN:STANDARD
TZOFFSETFROM:-0400
TZOFFSETTO:-0500
TZNAME:EST
DTSTART:20271107T060000
END:STANDARD
END:VTIMEZONE
BEGIN:VEVENT
DTSTART;TZID=America/New_York:20260422T173000
DTEND;TZID=America/New_York:20260422T190000
DTSTAMP:20260422T014032
CREATED:20260410T175427Z
LAST-MODIFIED:20260413T005001Z
UID:10002114-1776879000-1776884400@insideandoutupstateny.com
SUMMARY:Earth Day Meet & Greet at the Colony Beer Garden
DESCRIPTION:History repeats itself. Richard Heppner and Karyn Bevet of the Woodstock Historical Society will share highlights of Woodstock’s Earth Week from the 1970’s and beyond.  \nHosted by Colony Woodstock\, a historic 1929 hotel-turned-live music venue\, restaurant\, and beer garden in the heart of Woodstock.  Learn more about Colony Woodstock here. \n  \nSponsored by Earth Week Woodstock. \nClick here for a complete list of events.
URL:https://insideandoutupstateny.com/event/earth-day-meet-greet-at-the-colony-beer-garden/
LOCATION:Colony Woodstock\, 22 Rock City Road\, Woodstock\, NY\, 12498\, United States
CATEGORIES:Fairs + Festivals,Family + Kids,Nightlife + Parties
ATTACH;FMTTYPE=image/jpeg:https://mc-insideout.nyc3.cdn.digitaloceanspaces.com/2026/04/colony-woodstock-exterior.jpg
END:VEVENT
BEGIN:VEVENT
DTSTART;TZID=America/New_York:20260422T180000
DTEND;TZID=America/New_York:20260422T193000
DTSTAMP:20260422T014032
CREATED:20260410T174130Z
LAST-MODIFIED:20260413T005732Z
UID:10002102-1776880800-1776886200@insideandoutupstateny.com
SUMMARY:Earth Day // Earthworks
DESCRIPTION:Storm King’s collection includes significant works of land art. This Earth Day\, we’re celebrating with a special after-hours walking tour of Storm King’s earthworks. The tour will highlight the collection works made using natural materials from Storm King’s landscape\, including Andy Goldsworthy’s Storm King Wall\, Maya Lin’s Wavefield\, and Patricia Johanson’s Nostoc II. \nRegistration is required. \n\nFree for Members.\nGuests limited by Member level.\nThe tour will meet at the Outdoor Lobby and will depart at 6:00 PM. Please arrive early to allow time to check in.
URL:https://insideandoutupstateny.com/event/earth-day-earthworks/
LOCATION:Storm King\, 1 Museum Rd\, New Windsor\, NY\, 12553\, United States
CATEGORIES:Arts + Culture,Outdoor + Adventure
ATTACH;FMTTYPE=image/jpeg:https://mc-insideout.nyc3.cdn.digitaloceanspaces.com/2026/04/earth-day-earth-works-storm-king-new-windsor-ny.jpg
END:VEVENT
BEGIN:VEVENT
DTSTART;TZID=America/New_York:20260422T190000
DTEND;TZID=America/New_York:20260422T220000
DTSTAMP:20260422T014032
CREATED:20260410T180039Z
LAST-MODIFIED:20260413T010144Z
UID:10002116-1776884400-1776895200@insideandoutupstateny.com
SUMMARY:Earth Day Dance Party with Soul Patrol!
DESCRIPTION:Let’s Dance! \nFeaturing Soul Patrol with Harvey Citron and Woodstock all-star musicians Ross Rice\, Sean Tarleton\, Jerry Marotta and Jay Collins as they celebrate the hits of Motown\, Soul\, and R&B in the Colony ballroom.   \nJames Brown says\, “I got ants in my pants and I need to dance!” \nSuggested Donation: $20
URL:https://insideandoutupstateny.com/event/earth-day-dance-party-with-soul-patrol/
LOCATION:Colony Woodstock\, 22 Rock City Road\, Woodstock\, NY\, 12498\, United States
CATEGORIES:Fundraising Events,Live Music + Concerts
ATTACH;FMTTYPE=image/jpeg:https://mc-insideout.nyc3.cdn.digitaloceanspaces.com/2026/04/Soul-Patrol.jpg
END:VEVENT
END:VCALENDAR