BEGIN:VCALENDAR
VERSION:2.0
PRODID:-//Inside + Out Upstate NY - ECPv6.15.18//NONSGML v1.0//EN
CALSCALE:GREGORIAN
METHOD:PUBLISH
X-WR-CALNAME:Inside + Out Upstate NY
X-ORIGINAL-URL:https://insideandoutupstateny.com
X-WR-CALDESC:Events for Inside + Out Upstate NY
REFRESH-INTERVAL;VALUE=DURATION:PT1H
X-Robots-Tag:noindex
X-PUBLISHED-TTL:PT1H
BEGIN:VTIMEZONE
TZID:America/New_York
BEGIN:DAYLIGHT
TZOFFSETFROM:-0500
TZOFFSETTO:-0400
TZNAME:EDT
DTSTART:20250309T070000
END:DAYLIGHT
BEGIN:STANDARD
TZOFFSETFROM:-0400
TZOFFSETTO:-0500
TZNAME:EST
DTSTART:20251102T060000
END:STANDARD
BEGIN:DAYLIGHT
TZOFFSETFROM:-0500
TZOFFSETTO:-0400
TZNAME:EDT
DTSTART:20260308T070000
END:DAYLIGHT
BEGIN:STANDARD
TZOFFSETFROM:-0400
TZOFFSETTO:-0500
TZNAME:EST
DTSTART:20261101T060000
END:STANDARD
BEGIN:DAYLIGHT
TZOFFSETFROM:-0500
TZOFFSETTO:-0400
TZNAME:EDT
DTSTART:20270314T070000
END:DAYLIGHT
BEGIN:STANDARD
TZOFFSETFROM:-0400
TZOFFSETTO:-0500
TZNAME:EST
DTSTART:20271107T060000
END:STANDARD
END:VTIMEZONE
BEGIN:VEVENT
DTSTART;TZID=America/New_York:20260524T110000
DTEND;TZID=America/New_York:20260524T170000
DTSTAMP:20260420T200008
CREATED:20260329T124112Z
LAST-MODIFIED:20260329T124125Z
UID:10002040-1779620400-1779642000@insideandoutupstateny.com
SUMMARY:Hudson Berkshire Wine & Food Spring Festival
DESCRIPTION:The  Spring Wine and Food Festival\, at the Columbia County Fairgrounds in Chatham\, NY\, features a variety of Hudson-Berkshire Beverage Trail members and regional wineries\, distilleries and cideries.  There will be wonderful farm producers sampling and selling their delicious gourmet cheeses\, baked goods\, jams\, jellies\, and special seminars throughout the weekend by some of the region’s foremost craft beverage experts. \nThe Hudson-Berkshire Beverage Trail is the premier beverage trail in the Hudson Valley and the Berkshires\, extending from south of Albany\, through the Berkshires\, and down through Columbia County\, NY\, and includes many wineries\, distilleries and cideries\, all within 50 miles of each other. \nMay 24\, 2026 \nGeneral Admission: $10 – $20\nTasting Ticket: $20 – $40\nTasting Ticket – includes admission\, souvenir tasting glass and all the wines\, ciders and spirits you care to taste for one price.
URL:https://insideandoutupstateny.com/event/hudson-berkshire-wine-food-spring-festival-2/
LOCATION:Columbia County Fairgrounds\, 182 Hudson Avenue\, Chatham\, NY\, 12037\, United States
CATEGORIES:Fairs + Festivals,Food + Drink
ATTACH;FMTTYPE=image/jpeg:https://mc-insideout.nyc3.cdn.digitaloceanspaces.com/2026/03/hudson-berkshires-food-and-wine-festival-2026.jpg
END:VEVENT
BEGIN:VEVENT
DTSTART;TZID=America/New_York:20260525T100000
DTEND;TZID=America/New_York:20260525T173000
DTSTAMP:20260420T200008
CREATED:20260408T161549Z
LAST-MODIFIED:20260408T161625Z
UID:10002086-1779703200-1779730200@insideandoutupstateny.com
SUMMARY:Woodstock-New Paltz Art & Crafts Fair
DESCRIPTION:Consistently ranked among the top contemporary art and craft shows in the U.S.\, this long‑running\, biannual juried craft show showcases hundreds of juried exhibitors from more than ten media categories\, including fine art\, ceramics\, jewelry\, wood\, fiber\, metalwork\, body care\, and specialty foods. All work is handmade and original in both design and execution\, with artists present to interact with visitors. The show also includes live music\, craft demonstrations\, kids’ activities\, and a complimentary drop‑off children’s tent\, and on-site food vendors featuring regional specialties.
URL:https://insideandoutupstateny.com/event/woodstock-new-paltz-art-crafts-fair-3/
LOCATION:Ulster County Fairgrounds\, 249 Libertyville Rd\, New Paltz\, NY\, 12561\, United States
CATEGORIES:Artisan + Flea Markets,Fairs + Festivals,Family + Kids
ATTACH;FMTTYPE=image/jpeg:https://mc-insideout.nyc3.cdn.digitaloceanspaces.com/2026/04/quail-hollow-craft-fair-new-paltz-ny.jpg
ORGANIZER;CN="Quail Hollow Events":MAILTO:ola@quailhollow.com
END:VEVENT
BEGIN:VEVENT
DTSTART;VALUE=DATE:20260715
DTEND;VALUE=DATE:20260716
DTSTAMP:20260420T200009
CREATED:20260411T191252Z
LAST-MODIFIED:20260411T202405Z
UID:10002126-1784073600-1784159999@insideandoutupstateny.com
SUMMARY:Grey Fox Bluegrass Festival
DESCRIPTION:July 15–19\, 2026 \nThe Grey Fox Bluegrass Festival is a beloved celebration of music\, culture\, and community\, making it a must-visit for any bluegrass enthusiast. Join a tight-knit community of festival goers for the four-day event in July\, and enjoy a mix of legendary bluegrass musicians and emerging artists\, hands-on workshops\, and jams that last late into the night.  Enjoy 40+ bands across multiple stages\, from traditional bluegrass to jamgrass\, old-time\, swing\, and Cajun\, with big-name headliners and up‑and‑coming acts. \nThis long‑running\, camping‑friendly festival is a family‑friendly\, community‑oriented festival with food vendors\, showers\, medical tent\, and other amenities for multi‑day camping. \n  \nDates: July 15–19\, 2026 (music Thursday–Sunday\, camping from Wednesday morning). \n\n\nCamping culture: On‑site tent\, RV\, and glamping options in large hayfields\, with sections like quiet camping\, family camping\, and picker/jam areas. \n\n\nWorkshops & jams: Instrument and vocal workshops\, Q&As\, dance pavilion\, late‑night jams\, and a free Bluegrass Academy for Kids\, plus a dedicated Family Stage with crafts and kid activities. \n\n\nDay Visitor / Gate Hours \n\n\nDay‑visitor gates and parking open 7:00 am Thursday–Sunday. \n\n\nDay visitors must leave within 1 hour after the last show ends each night; the shuttle runs from 10:00 am until 1 hour after the last show. \n\n\nMusic Hours  \n\n\nHigh Meadow Stage:  Thursday: 12noon-12midnight. Friday/Saturday: 11:00 am–after midnight. Sunday: 10:00 am–2:00 pm \n\n\nCreekside Stage: Performances roughly 11:00 am–8:00 pm Thursday–Saturday. \n\n\nGrass Roots / workshop tents: Typically 11:00 am–about 7:00 pm.
URL:https://insideandoutupstateny.com/event/grey-fox-bluegrass-festival/
LOCATION:Walsh Farm\, 1 Poultney Road\, Oak Hill\, NY\, 12460\, United States
CATEGORIES:Fairs + Festivals,Live Music + Concerts,Outdoor + Adventure,Workshops & Classes
ATTACH;FMTTYPE=image/webp:https://mc-insideout.nyc3.cdn.digitaloceanspaces.com/2026/04/Grey-Fox-Bluegrass-Festival.webp
END:VEVENT
END:VCALENDAR