BEGIN:VCALENDAR
VERSION:2.0
PRODID:-//Inside + Out Upstate NY - ECPv6.15.18//NONSGML v1.0//EN
CALSCALE:GREGORIAN
METHOD:PUBLISH
X-WR-CALNAME:Inside + Out Upstate NY
X-ORIGINAL-URL:https://insideandoutupstateny.com
X-WR-CALDESC:Events for Inside + Out Upstate NY
REFRESH-INTERVAL;VALUE=DURATION:PT1H
X-Robots-Tag:noindex
X-PUBLISHED-TTL:PT1H
BEGIN:VTIMEZONE
TZID:America/New_York
BEGIN:DAYLIGHT
TZOFFSETFROM:-0500
TZOFFSETTO:-0400
TZNAME:EDT
DTSTART:20250309T070000
END:DAYLIGHT
BEGIN:STANDARD
TZOFFSETFROM:-0400
TZOFFSETTO:-0500
TZNAME:EST
DTSTART:20251102T060000
END:STANDARD
BEGIN:DAYLIGHT
TZOFFSETFROM:-0500
TZOFFSETTO:-0400
TZNAME:EDT
DTSTART:20260308T070000
END:DAYLIGHT
BEGIN:STANDARD
TZOFFSETFROM:-0400
TZOFFSETTO:-0500
TZNAME:EST
DTSTART:20261101T060000
END:STANDARD
BEGIN:DAYLIGHT
TZOFFSETFROM:-0500
TZOFFSETTO:-0400
TZNAME:EDT
DTSTART:20270314T070000
END:DAYLIGHT
BEGIN:STANDARD
TZOFFSETFROM:-0400
TZOFFSETTO:-0500
TZNAME:EST
DTSTART:20271107T060000
END:STANDARD
END:VTIMEZONE
BEGIN:VEVENT
DTSTART;TZID=America/New_York:20260315T100000
DTEND;TZID=America/New_York:20260315T120000
DTSTAMP:20260420T071707
CREATED:20260305T224814Z
LAST-MODIFIED:20260308T211502Z
UID:10000070-1773568800-1773576000@insideandoutupstateny.com
SUMMARY:TOT TIME! At Skate Time New York
DESCRIPTION:TOT TIME At Skate Time New York! \nOn Sundays from 10am-12pm bring your little ones for wiggle cars\, starter skates/skate mates\, arcade fun\, art tables\, breakfast foods — and a coffee bar for the grownups!  $12/kid and adult chaperones enter FREE!
URL:https://insideandoutupstateny.com/event/tot-time-at-skate-time-new-york/
LOCATION:Skate Time New York\, 5164 US Highway 209\, Accord\, NY\, 12404\, United States
CATEGORIES:Family + Kids
ATTACH;FMTTYPE=image/jpeg:https://mc-insideout.nyc3.cdn.digitaloceanspaces.com/2026/03/tot-time-at-skate-time-new-york-inside-out-upstate-ny.jpg
END:VEVENT
BEGIN:VEVENT
DTSTART;TZID=America/New_York:20260321T130000
DTEND;TZID=America/New_York:20260321T130000
DTSTAMP:20260420T071707
CREATED:20260312T154333Z
LAST-MODIFIED:20260312T154627Z
UID:10000119-1774098000-1774098000@insideandoutupstateny.com
SUMMARY:Artmaking in the Afternoon
DESCRIPTION:Inspired by your time at Olana or looking for family-friendly fun? Participate in free\, drop-in artmaking in the Wagon House Education Center from 1-4 PM and learn more about Frederic Church’s artist-designed home and studio on the Hudson. \nThis drop-in artmaking program is open to all ages and skill levels; all materials provided. FREE. No advanced registration required. Contact education@olana.org or call (518) 751-6938 for more info.
URL:https://insideandoutupstateny.com/event/artmaking-in-the-afternoon-olana-state-historic-site-hudson-ny/
LOCATION:Olana State Historic Site\, 5720 Route 9G\, Hudson\, NY\, 12534\, United States
CATEGORIES:Family + Kids
ATTACH;FMTTYPE=image/jpeg:https://mc-insideout.nyc3.cdn.digitaloceanspaces.com/2026/03/artmaking-in-the-afternoon-olana-state-historic-site-hudson-ny.jpg
END:VEVENT
BEGIN:VEVENT
DTSTART;TZID=America/New_York:20260327T160000
DTEND;TZID=America/New_York:20260327T180000
DTSTAMP:20260420T071707
CREATED:20260322T172519Z
LAST-MODIFIED:20260324T145511Z
UID:10001989-1774627200-1774634400@insideandoutupstateny.com
SUMMARY:Big Nate: Code Red!
DESCRIPTION:Join bestselling author Lincoln Peirce for a drawing activity and book signing event for the new Big Nate adventure – CODE RED!  Sixth-grade phenom Nate Wright is a force\, whether on the soccer field\, a master of pranks\, or as the school newspaper’s cartoonist\, and now he’s using his talents to launch a new podcast. Spring fever is in the air\, both on the baseball field and school crushes\, and Nate worries that the worst team name in history may hurt his mojo. \nFree. Registration Requested.
URL:https://insideandoutupstateny.com/event/big-nate-code-red/
LOCATION:Oblong Books\, 6422 Montgomery St.\, Suite 6\, Rhinebeck\, NY\, 12572\, United States
CATEGORIES:Family + Kids
ATTACH;FMTTYPE=image/jpeg:https://mc-insideout.nyc3.cdn.digitaloceanspaces.com/2026/03/big-nate-code-red-oblong-books-rhinebeck-ny.jpg
END:VEVENT
BEGIN:VEVENT
DTSTART;TZID=America/New_York:20260328T110000
DTEND;TZID=America/New_York:20260328T140000
DTSTAMP:20260420T071707
CREATED:20260324T011556Z
LAST-MODIFIED:20260324T150134Z
UID:10002005-1774695600-1774706400@insideandoutupstateny.com
SUMMARY:The Rock and Roll Playhouse plays Music of Grateful Dead + more for Kids
DESCRIPTION:The Rock and Roll Playhouse\, a family concert series hosted at historic music venues across the country\, allows kids to “move\, play and sing while listening to works from the classic-rock canon” (NY Times). Performing songs created by the most iconic musicians in rock history\, The Rock and Roll Playhouse band offers its core audience of families with children age ten and under games\, movement\, stories and an opportunity to rock out in an effort to educate children and explore their creativity. The Rock and Roll Playhouse is an early and often first introduction to a child’s lifelong journey with live music and rock and roll. This children’s concert is not associated with or endorsed by the artist. See you at the show! \n\n\nThis concert for kids and families shares the music of the artist named above with a new generation of music lovers\, but is not associated with or endorsed by the artist. All children must be accompanied by a parent or adult caregiver.  The Rock and Roll Playhouse knows that little ears are sensitive\, so we turn down the volume at our shows.  However\, all kids experience music differently and you may find that your child is more comfortable wearing hearing protection earmuffs\, such as Baby Banz\, available for purchase here. \n\n\nBy attending this event\, I consent to my image (with or without my voice) being included in photographs and/or film and videotape of the event\, and give the venue\, The Rock and Roll Playhouse and their respective licensees and assigns the absolute and irrevocable right and permission to use and publish such content in any and all media\, whether now known or hereafter developed.
URL:https://insideandoutupstateny.com/event/music-of-grateful-dead-more-for-kids/
LOCATION:Bearsville Theater\, 291 Tinker Street\, Woodstock\, NY 12498\, Woodstock\, 12498\, United States
CATEGORIES:Family + Kids,Live Music + Concerts
ATTACH;FMTTYPE=image/jpeg:https://mc-insideout.nyc3.cdn.digitaloceanspaces.com/2026/03/rock-and-roll-playhouse-grateful-dead-bearsville-theater-woodstock-ny.jpg
END:VEVENT
BEGIN:VEVENT
DTSTART;TZID=America/New_York:20260329T100000
DTEND;TZID=America/New_York:20260329T120000
DTSTAMP:20260420T071707
CREATED:20260305T225021Z
LAST-MODIFIED:20260305T225021Z
UID:10000072-1774778400-1774785600@insideandoutupstateny.com
SUMMARY:TOT TIME! At Skate Time New York
DESCRIPTION:TOT TIME! At Skate Time New York! \nOn Sundays from 10am-12pm bring your little ones for wiggle cars\, starter skates/skate mates\, arcade fun\, art tables\, breakfast foods — and a coffee bar for the grownups! \n$12/kid and adult chaperones enter FREE!
URL:https://insideandoutupstateny.com/event/tot-time-at-skate-time-new-york-3/
LOCATION:Skate Time New York\, 5164 US Highway 209\, Accord\, NY\, 12404\, United States
CATEGORIES:Family + Kids
ATTACH;FMTTYPE=image/jpeg:https://mc-insideout.nyc3.cdn.digitaloceanspaces.com/2026/03/tot-time-at-skate-time-new-york-inside-out-upstate-ny.jpg
END:VEVENT
END:VCALENDAR