BEGIN:VCALENDAR
VERSION:2.0
PRODID:-//Inside + Out Upstate NY - ECPv6.15.18//NONSGML v1.0//EN
CALSCALE:GREGORIAN
METHOD:PUBLISH
X-WR-CALNAME:Inside + Out Upstate NY
X-ORIGINAL-URL:https://insideandoutupstateny.com
X-WR-CALDESC:Events for Inside + Out Upstate NY
REFRESH-INTERVAL;VALUE=DURATION:PT1H
X-Robots-Tag:noindex
X-PUBLISHED-TTL:PT1H
BEGIN:VTIMEZONE
TZID:America/New_York
BEGIN:DAYLIGHT
TZOFFSETFROM:-0500
TZOFFSETTO:-0400
TZNAME:EDT
DTSTART:20250309T070000
END:DAYLIGHT
BEGIN:STANDARD
TZOFFSETFROM:-0400
TZOFFSETTO:-0500
TZNAME:EST
DTSTART:20251102T060000
END:STANDARD
BEGIN:DAYLIGHT
TZOFFSETFROM:-0500
TZOFFSETTO:-0400
TZNAME:EDT
DTSTART:20260308T070000
END:DAYLIGHT
BEGIN:STANDARD
TZOFFSETFROM:-0400
TZOFFSETTO:-0500
TZNAME:EST
DTSTART:20261101T060000
END:STANDARD
BEGIN:DAYLIGHT
TZOFFSETFROM:-0500
TZOFFSETTO:-0400
TZNAME:EDT
DTSTART:20270314T070000
END:DAYLIGHT
BEGIN:STANDARD
TZOFFSETFROM:-0400
TZOFFSETTO:-0500
TZNAME:EST
DTSTART:20271107T060000
END:STANDARD
END:VTIMEZONE
BEGIN:VEVENT
DTSTART;TZID=America/New_York:20260324T000000
DTEND;TZID=America/New_York:20260324T000000
DTSTAMP:20260423T234826
CREATED:20260416T215943Z
LAST-MODIFIED:20260416T220226Z
UID:10002012-1774310400-1774310400@insideandoutupstateny.com
SUMMARY:2026 Hudson Hall Fundraising Gala
DESCRIPTION:Join us for the 2026 Hudson Hall Annual Fundraising Gala with cocktails\, a seated dinner\, and preview performances from the 2026–27 Hudson Hall season. Proceeds from the evening support Hudson Hall’s artistic\, educational\, and community programs throughout the year. The gala  brings together artists\, supporters\, and friends for an evening of performance\, celebration\, and a first look at the 2026–2027 season. \nHonoring: \nElena Mosley\, Operation Unite NY\nSteven Johnson & Walter Sudol\, Second Ward Foundation \n6 PM Cocktails / 7 PM Seated Dinner by Swoon Kitchenbar\nHudson Hall\, 327 Warren Street\, Hudson NY \nGuests will enjoy performances by choreographer-in-residence Bobbi Jean Smith\, jazz duo Vuyo Sotashe and Chris Pattishall\, and countertenor Aryeh Nussbaum Cohen with early music band Ruckus\, who will perform an excerpt from the next opera in our Handel on the Hudson series\, Deidamia. \nIn a special installation for gala evening only\, Cindy Sherman’s sculptural set for Stephen Petronio’s dance Island of Misfit Toys (2003) will also be on view.
URL:https://insideandoutupstateny.com/event/2026-hudson-hall-fundraising-gala/
LOCATION:NY
CATEGORIES:Arts + Culture,Fundraising Events
ATTACH;FMTTYPE=image/jpeg:https://mc-insideout.nyc3.cdn.digitaloceanspaces.com/2026/04/hudson-hall-gala-2026.pnt_.jpg
END:VEVENT
END:VCALENDAR