BEGIN:VCALENDAR
VERSION:2.0
PRODID:-//Inside + Out Upstate NY - ECPv6.15.18//NONSGML v1.0//EN
CALSCALE:GREGORIAN
METHOD:PUBLISH
X-ORIGINAL-URL:https://insideandoutupstateny.com
X-WR-CALDESC:Events for Inside + Out Upstate NY
REFRESH-INTERVAL;VALUE=DURATION:PT1H
X-Robots-Tag:noindex
X-PUBLISHED-TTL:PT1H
BEGIN:VTIMEZONE
TZID:America/New_York
BEGIN:DAYLIGHT
TZOFFSETFROM:-0500
TZOFFSETTO:-0400
TZNAME:EDT
DTSTART:20250309T070000
END:DAYLIGHT
BEGIN:STANDARD
TZOFFSETFROM:-0400
TZOFFSETTO:-0500
TZNAME:EST
DTSTART:20251102T060000
END:STANDARD
BEGIN:DAYLIGHT
TZOFFSETFROM:-0500
TZOFFSETTO:-0400
TZNAME:EDT
DTSTART:20260308T070000
END:DAYLIGHT
BEGIN:STANDARD
TZOFFSETFROM:-0400
TZOFFSETTO:-0500
TZNAME:EST
DTSTART:20261101T060000
END:STANDARD
BEGIN:DAYLIGHT
TZOFFSETFROM:-0500
TZOFFSETTO:-0400
TZNAME:EDT
DTSTART:20270314T070000
END:DAYLIGHT
BEGIN:STANDARD
TZOFFSETFROM:-0400
TZOFFSETTO:-0500
TZNAME:EST
DTSTART:20271107T060000
END:STANDARD
END:VTIMEZONE
BEGIN:VEVENT
DTSTART;TZID=America/New_York:20260516T160000
DTEND;TZID=America/New_York:20260516T180000
DTSTAMP:20260419T115616
CREATED:20260416T170120Z
LAST-MODIFIED:20260416T170120Z
UID:10002135-1778947200-1778954400@insideandoutupstateny.com
SUMMARY:Ted Dixon – Would it be enough – Opening Reception
DESCRIPTION:“We never know what is enough until we know what’s less than enough.” \nI am honored and delighted to present “Would it be enough\,” my first solo exhibition with the Sketchbook Gallery\, Saugerties NY. \nAs a Hudson Valley-based abstract painter\, much of my efforts are focused on creating paintings that encourage viewers to rethink how experiences shape who we are. My thoughts and imagination skirt the boundaries between past\, present\, and future encounters to seek meaning and purpose of joy and hope\, as well as sadness and despair. \nWith these new paintings\, I am inviting the viewer to consider how “enough” plays a role in how we feel\, the decisions we make\, and the person we continue to grow into. \n“The theme of the exhibit came out of my thoughts of a parent who has outlived two of their children\, of a people who continue to wonder when\, and my understanding that received blessings should not come with guilt.” \nI hope you can join in my conversation with Elizabeth Keithline at the gallery on Saturday\, May 23 (from 2:00 to 3:00 pm) – it will be fun. \nTed
URL:https://insideandoutupstateny.com/event/ted-dixon-would-it-be-enough-opening-reception/
LOCATION:The Sketchbook Gallery\, 9 Jane St.\, Saugerties\, NY\, 12477\, United States
CATEGORIES:Arts + Culture
ATTACH;FMTTYPE=image/jpeg:https://mc-insideout.nyc3.cdn.digitaloceanspaces.com/2026/04/1.jpg
ORGANIZER;CN="Jane St. Art":MAILTO:info@janestreetartcenter.com
END:VEVENT
BEGIN:VEVENT
DTSTART;TZID=America/New_York:20260516T160000
DTEND;TZID=America/New_York:20260516T180000
DTSTAMP:20260419T115616
CREATED:20260416T170741Z
LAST-MODIFIED:20260416T170741Z
UID:10002141-1778947200-1778954400@insideandoutupstateny.com
SUMMARY:surREAL - Opening Reception
DESCRIPTION:Enter a world where reality dissolves and imagination takes form. surREAL defies the ordinary\, inviting you to explore a universe where the strange and the familiar intertwine. Through unexpected landscapes\, twisted perspectives\, and otherworldly creations\, this collection challenges your perceptions and sparks your curiosity.  \nCome experience surREAL\, a group exhibition where the boundaries of reality are blurred\, and the only limit is your imagination. \nExhibition Dates: May 16 – June 19\, 2026\nGallery Hours: Thurs/Sun – 12-5pm\, Fri/Sat – 12-6pm
URL:https://insideandoutupstateny.com/event/surreal-opening-reception/
LOCATION:Jane St Art\, 11 Jane Street\, Ste A\, Saugerties\, NY\, 12477\, United States
CATEGORIES:Arts + Culture
ATTACH;FMTTYPE=image/jpeg:https://mc-insideout.nyc3.cdn.digitaloceanspaces.com/2026/04/2.jpg
ORGANIZER;CN="Jane St. Art":MAILTO:info@janestreetartcenter.com
END:VEVENT
BEGIN:VEVENT
DTSTART;TZID=America/New_York:20260523T140000
DTEND;TZID=America/New_York:20260523T150000
DTSTAMP:20260419T115616
CREATED:20260416T170444Z
LAST-MODIFIED:20260416T170444Z
UID:10002139-1779544800-1779548400@insideandoutupstateny.com
SUMMARY:Ted Dixon - Would it be enough - Artist Talk
DESCRIPTION:“We never know what is enough until we know what’s less than enough.” \nI am honored and delighted to present “Would it be enough\,” my first solo exhibition with the Sketchbook Gallery\, Saugerties NY. \nAs a Hudson Valley-based abstract painter\, much of my efforts are focused on creating paintings that encourage viewers to rethink how experiences shape who we are. My thoughts and imagination skirt the boundaries between past\, present\, and future encounters to seek meaning and purpose of joy and hope\, as well as sadness and despair. \nWith these new paintings\, I am inviting the viewer to consider how “enough” plays a role in how we feel\, the decisions we make\, and the person we continue to grow into. \n“The theme of the exhibit came out of my thoughts of a parent who has outlived two of their children\, of a people who continue to wonder when\, and my understanding that received blessings should not come with guilt.” \nI hope you can join in my conversation with Elizabeth Keithline at the gallery on Saturday\, May 23 (from 2:00 to 3:00 pm) – it will be fun. \nTed
URL:https://insideandoutupstateny.com/event/ted-dixon-would-it-be-enough-artist-talk/
LOCATION:The Sketchbook Gallery\, 9 Jane St.\, Saugerties\, NY\, 12477\, United States
CATEGORIES:Arts + Culture
ATTACH;FMTTYPE=image/jpeg:https://mc-insideout.nyc3.cdn.digitaloceanspaces.com/2026/04/1-2.jpg
ORGANIZER;CN="Jane St. Art":MAILTO:info@janestreetartcenter.com
END:VEVENT
END:VCALENDAR