BEGIN:VCALENDAR
VERSION:2.0
PRODID:-//Inside + Out Upstate NY - ECPv6.15.18//NONSGML v1.0//EN
CALSCALE:GREGORIAN
METHOD:PUBLISH
X-ORIGINAL-URL:https://insideandoutupstateny.com
X-WR-CALDESC:Events for Inside + Out Upstate NY
REFRESH-INTERVAL;VALUE=DURATION:PT1H
X-Robots-Tag:noindex
X-PUBLISHED-TTL:PT1H
BEGIN:VTIMEZONE
TZID:America/New_York
BEGIN:DAYLIGHT
TZOFFSETFROM:-0500
TZOFFSETTO:-0400
TZNAME:EDT
DTSTART:20250309T070000
END:DAYLIGHT
BEGIN:STANDARD
TZOFFSETFROM:-0400
TZOFFSETTO:-0500
TZNAME:EST
DTSTART:20251102T060000
END:STANDARD
BEGIN:DAYLIGHT
TZOFFSETFROM:-0500
TZOFFSETTO:-0400
TZNAME:EDT
DTSTART:20260308T070000
END:DAYLIGHT
BEGIN:STANDARD
TZOFFSETFROM:-0400
TZOFFSETTO:-0500
TZNAME:EST
DTSTART:20261101T060000
END:STANDARD
BEGIN:DAYLIGHT
TZOFFSETFROM:-0500
TZOFFSETTO:-0400
TZNAME:EDT
DTSTART:20270314T070000
END:DAYLIGHT
BEGIN:STANDARD
TZOFFSETFROM:-0400
TZOFFSETTO:-0500
TZNAME:EST
DTSTART:20271107T060000
END:STANDARD
END:VTIMEZONE
BEGIN:VEVENT
DTSTART;TZID=America/New_York:20260502T190000
DTEND;TZID=America/New_York:20260502T190000
DTSTAMP:20260423T113754
CREATED:20260422T162724Z
LAST-MODIFIED:20260422T162724Z
UID:10002154-1777748400-1777748400@insideandoutupstateny.com
SUMMARY:Dan Madonia & Eddie Brill Stand-Up Comedy
DESCRIPTION:Eddie Brill is a legendary stand up comedian and comedy booker\, as well as supporter of the Catskills Comedy Festival. In addition to performing in 46 of the 50 states in the US\, Eddie Brill has also done stand-up in England\, Australia\, Ireland\, Scotland\, Canada\, France\, Holland\, Dhaka and Hong Kong. For seventeen years\, he worked on The Late Show with David Letterman. He served as the audience warm-up and for eleven of those years he was the Stand Up Comedy Talent Coordinator. Eddie has taped more than 100 TV shows in six different countries\, including ten appearances on The Late Show and on an Emmy nominated episode of the FX hit series\, “Louie.” A 3-time MAC award winner for Outstanding Male Comic in NYC\, he has hosted and performed for hundreds of corporate events\, including ESPN\, Glaxo Welcome. Hyatt Hotels and BMC Software. He performed on some of the greatest stages in the world including The Shrine Auditorium and Radio City Music Hall. He has been the audience warm-up for many shows including the “Dana Carvey Show\,” “Madigan Men\,” “This is Your Life” and for a short time\, early episodes of Saved By The Bell.” He has appeared in numerous films as an actor\, including\, “30 Years To Life” with Tracy Morgan. He has used his voice talents in many animated series including Comedy Central’s “Dr Katz” and ABC’s “Science Court.” Eddie produces and helps book stand-up talent all over the world. He was the architect and for the first ten years\, was the creative director of the wildly successful “Great American Comedy Festival.” It honors Johnny Carson in his hometown of Norfolk\, Nebraska. He had assisted in booking the US acts for the International TV show\, “The World Stands Up.” He also ran the incredibly popular “Paper Moon” comedy club in NYC that gave many comics their first big break. Along with Norman Lear in 1978\, he helped create one of the first ever college comedy writing departments in the country at Emerson College in Boston. He also helped create the Emerson Comedy Workshop\, founded in 1976\, which continues to thrive today. He currently teaches a highly acclaimed stand-up comedy workshop worldwide that helps comics young and old to take their comedy work to the next level. He is often called upon to help punch up film and comedy scripts. Eddie hosts\, performs and helps raise money for many benefits including The Roberto Clemente Foundation (for underprivileged children)\, The David Ortiz Children’s Fund\, Sisters in Survival (women with Breast cancer). Juvenile Diabetes\, The American Cancer Association\, and with Reader’s Digest and St. Jude on Stand-Up for the Children.
URL:https://insideandoutupstateny.com/event/dan-madonia-eddie-brill-stand-up-comedy/
LOCATION:Bridge Street Theater\, 44 West Bridge Street\, Catskill\, NY\, 12414\, United States
ATTACH;FMTTYPE=image/jpeg:https://mc-insideout.nyc3.cdn.digitaloceanspaces.com/2026/04/dan-madonia-eddie-brill-comedy-bridge-st-theater-catskill-ny.jpg
END:VEVENT
END:VCALENDAR