BEGIN:VCALENDAR
VERSION:2.0
PRODID:-//Inside + Out Upstate NY - ECPv6.15.18//NONSGML v1.0//EN
CALSCALE:GREGORIAN
METHOD:PUBLISH
X-WR-CALNAME:Inside + Out Upstate NY
X-ORIGINAL-URL:https://insideandoutupstateny.com
X-WR-CALDESC:Events for Inside + Out Upstate NY
REFRESH-INTERVAL;VALUE=DURATION:PT1H
X-Robots-Tag:noindex
X-PUBLISHED-TTL:PT1H
BEGIN:VTIMEZONE
TZID:America/New_York
BEGIN:DAYLIGHT
TZOFFSETFROM:-0500
TZOFFSETTO:-0400
TZNAME:EDT
DTSTART:20250309T070000
END:DAYLIGHT
BEGIN:STANDARD
TZOFFSETFROM:-0400
TZOFFSETTO:-0500
TZNAME:EST
DTSTART:20251102T060000
END:STANDARD
BEGIN:DAYLIGHT
TZOFFSETFROM:-0500
TZOFFSETTO:-0400
TZNAME:EDT
DTSTART:20260308T070000
END:DAYLIGHT
BEGIN:STANDARD
TZOFFSETFROM:-0400
TZOFFSETTO:-0500
TZNAME:EST
DTSTART:20261101T060000
END:STANDARD
BEGIN:DAYLIGHT
TZOFFSETFROM:-0500
TZOFFSETTO:-0400
TZNAME:EDT
DTSTART:20270314T070000
END:DAYLIGHT
BEGIN:STANDARD
TZOFFSETFROM:-0400
TZOFFSETTO:-0500
TZNAME:EST
DTSTART:20271107T060000
END:STANDARD
END:VTIMEZONE
BEGIN:VEVENT
DTSTART;TZID=America/New_York:20260502T100000
DTEND;TZID=America/New_York:20260502T150000
DTSTAMP:20260425T222547
CREATED:20260321T163118Z
LAST-MODIFIED:20260420T185642Z
UID:10001968-1777716000-1777734000@insideandoutupstateny.com
SUMMARY:Hudson Children's Book Festival
DESCRIPTION:The Hudson Children’s Book Festival\, established in 2009\, is held each year in the historic city of Hudson\, NY\, and strives to create\, nurture\, and sustain a culture of literacy in partnership with our community and schools. This free\, public event fosters a love of reading as families meet and greet world-class creators of books for children of all ages.
URL:https://insideandoutupstateny.com/event/hudson-childrens-book-festival/
LOCATION:Columbia-Greene Community College\, 4400 NY-23\, Hudson\, NY\, 12534\, United States
CATEGORIES:Fairs + Festivals,Family + Kids
ATTACH;FMTTYPE=image/jpeg:https://mc-insideout.nyc3.cdn.digitaloceanspaces.com/2026/04/hudson-childrens-book-festival-hudson-ny.jpg
ORGANIZER;CN="Hudson Children's Book Festival":MAILTO:HCBF@hudsoncsd.org
END:VEVENT
END:VCALENDAR