BEGIN:VCALENDAR
VERSION:2.0
PRODID:-//Inside + Out Upstate NY - ECPv6.15.18//NONSGML v1.0//EN
CALSCALE:GREGORIAN
METHOD:PUBLISH
X-WR-CALNAME:Inside + Out Upstate NY
X-ORIGINAL-URL:https://insideandoutupstateny.com
X-WR-CALDESC:Events for Inside + Out Upstate NY
REFRESH-INTERVAL;VALUE=DURATION:PT1H
X-Robots-Tag:noindex
X-PUBLISHED-TTL:PT1H
BEGIN:VTIMEZONE
TZID:America/New_York
BEGIN:DAYLIGHT
TZOFFSETFROM:-0500
TZOFFSETTO:-0400
TZNAME:EDT
DTSTART:20250309T070000
END:DAYLIGHT
BEGIN:STANDARD
TZOFFSETFROM:-0400
TZOFFSETTO:-0500
TZNAME:EST
DTSTART:20251102T060000
END:STANDARD
BEGIN:DAYLIGHT
TZOFFSETFROM:-0500
TZOFFSETTO:-0400
TZNAME:EDT
DTSTART:20260308T070000
END:DAYLIGHT
BEGIN:STANDARD
TZOFFSETFROM:-0400
TZOFFSETTO:-0500
TZNAME:EST
DTSTART:20261101T060000
END:STANDARD
BEGIN:DAYLIGHT
TZOFFSETFROM:-0500
TZOFFSETTO:-0400
TZNAME:EDT
DTSTART:20270314T070000
END:DAYLIGHT
BEGIN:STANDARD
TZOFFSETFROM:-0400
TZOFFSETTO:-0500
TZNAME:EST
DTSTART:20271107T060000
END:STANDARD
END:VTIMEZONE
BEGIN:VEVENT
DTSTART;TZID=America/New_York:20260427T090000
DTEND;TZID=America/New_York:20260427T150000
DTSTAMP:20260422T231300
CREATED:20260410T172734Z
LAST-MODIFIED:20260410T172734Z
UID:10002108-1777280400-1777302000@insideandoutupstateny.com
SUMMARY:Mohonk Tulip Festival - Apr 27-May 11
DESCRIPTION:Experience Spring in Full Bloom!\n\nExperience a kaleidoscope of color as our historic castle resort’s Show Garden “springs” to life with over 30\,000 vibrant red\, yellow\, pink\, and purple delights. Enjoy Tulip Festival events like our daily garden tours\, Floral Tea & Cookies\, and more. \nDay Pass entries are valid from 9am – 3pm\, regardless of the time slot selected. You may stay until dusk on your selected date. Tickets available to purchase 72 hours prior to the selected date. \n\nDates \nApril 27–May 1 and May 4–8\, 2026 \nTickets \n$35 per Adult\n$30 per Child ages 4-12\nFree for 3 & Under
URL:https://insideandoutupstateny.com/event/mohonk-tulip-festival-apr-27-may-11/
LOCATION:Mohonk Mountain House\, 1000 Mountain Rest Road\, New Paltz\, NY\, 12561\, United States
CATEGORIES:Family + Kids,Outdoor + Adventure
ATTACH;FMTTYPE=image/jpeg:https://mc-insideout.nyc3.cdn.digitaloceanspaces.com/2026/04/mohonk-tulip-festival-new-paltz-ny-inside-out-upstate-ny.jpg
END:VEVENT
END:VCALENDAR