BEGIN:VCALENDAR
VERSION:2.0
PRODID:-//Inside + Out Upstate NY - ECPv6.15.18//NONSGML v1.0//EN
CALSCALE:GREGORIAN
METHOD:PUBLISH
X-ORIGINAL-URL:https://insideandoutupstateny.com
X-WR-CALDESC:Events for Inside + Out Upstate NY
REFRESH-INTERVAL;VALUE=DURATION:PT1H
X-Robots-Tag:noindex
X-PUBLISHED-TTL:PT1H
BEGIN:VTIMEZONE
TZID:America/New_York
BEGIN:DAYLIGHT
TZOFFSETFROM:-0500
TZOFFSETTO:-0400
TZNAME:EDT
DTSTART:20250309T070000
END:DAYLIGHT
BEGIN:STANDARD
TZOFFSETFROM:-0400
TZOFFSETTO:-0500
TZNAME:EST
DTSTART:20251102T060000
END:STANDARD
BEGIN:DAYLIGHT
TZOFFSETFROM:-0500
TZOFFSETTO:-0400
TZNAME:EDT
DTSTART:20260308T070000
END:DAYLIGHT
BEGIN:STANDARD
TZOFFSETFROM:-0400
TZOFFSETTO:-0500
TZNAME:EST
DTSTART:20261101T060000
END:STANDARD
BEGIN:DAYLIGHT
TZOFFSETFROM:-0500
TZOFFSETTO:-0400
TZNAME:EDT
DTSTART:20270314T070000
END:DAYLIGHT
BEGIN:STANDARD
TZOFFSETFROM:-0400
TZOFFSETTO:-0500
TZNAME:EST
DTSTART:20271107T060000
END:STANDARD
END:VTIMEZONE
BEGIN:VEVENT
DTSTART;TZID=America/New_York:20260424T200000
DTEND;TZID=America/New_York:20260424T230000
DTSTAMP:20260421T001033
CREATED:20260413T200034Z
LAST-MODIFIED:20260413T200034Z
UID:10002093-1777060800-1777071600@insideandoutupstateny.com
SUMMARY:Buffalo Stack
DESCRIPTION:After thriving as a sideman musician in the New York City music scene for several years\, songwriter\, guitarist and vocalist Andy Stack heeded that call and headed north on a whim to the Hudson Valley (home to luminaries like Bob Dylan and The Band) and founded the group Buffalo Stack and the music production co. Buffalo Stack Productions. \n\nAndy brings to Buffalo Stack his command of American roots music\, his knowledge of the folk traditions from his ancestors’ homeland of Ireland and his modern music sensibilities. Influences from Chicago\, to the Delta\, from New Orleans to New York City\, all find their way into the cocktail.  He culls the deep cuts for material\, improvises solos with a compelling approach to his instrument\, and leads the band through a dynamic and adventurous set of original songs and carefully selected covers. The band in its versatility has performed in different formations from duo to big band with a horn section and background singers\, consistently bringing enthusiastic audiences to their feet.  Andy is also in high demand as a sideman\, recently lending his talents to Girl From the North Country (Bob Dylan) on Broadway\, Yola (Grammy nominated artist) and the Cosmic Orchestra\, backing national acts monthly.
URL:https://insideandoutupstateny.com/event/buffalo-stack/
LOCATION:Park Theater Hudson\, 723 Warren Street\, Hudson\, NY\, 12534
CATEGORIES:Live Music + Concerts
ATTACH;FMTTYPE=image/jpeg:https://mc-insideout.nyc3.cdn.digitaloceanspaces.com/2026/04/buffalo-stack-park-theater-hudson-hudson-ny.jpg
END:VEVENT
END:VCALENDAR